Workbook

Sheet Montag
A1: BAUTAGEBUCH24 | E1: Bautagebuch
A2: Tagesblatt Montag
A4: BAUVORHABEN | D4: DATUM
A6: AUFTRAGGEBER | D6: WOCHENTAG
D7: Montag
A8: BAULEITUNG | D8: BLATT NR.
A11: WETTER
A12: Uhrzeit | B12: Temperatur (°C) | C12: Wetter (Sonne, Regen, Wind, Frost)
A13: 7 Uhr
A14: 12 Uhr
A15: 16 Uhr
A17: PERSONAL
A18: Name, Tätigkeit | B18: von | C18: bis | D18: Pause (Min.) | E18: Stunden
E19: =IF(OR(B19="",C19=""),"",ROUND((C19-B19)*24-D19/60,2))
E20: =IF(OR(B20="",C20=""),"",ROUND((C20-B20)*24-D20/60,2))
E21: =IF(OR(B21="",C21=""),"",ROUND((C21-B21)*24-D21/60,2))
E22: =IF(OR(B22="",C22=""),"",ROUND((C22-B22)*24-D22/60,2))
E23: =IF(OR(B23="",C23=""),"",ROUND((C23-B23)*24-D23/60,2))
E24: =IF(OR(B24="",C24=""),"",ROUND((C24-B24)*24-D24/60,2))
E25: =IF(OR(B25="",C25=""),"",ROUND((C25-B25)*24-D25/60,2))
E26: =IF(OR(B26="",C26=""),"",ROUND((C26-B26)*24-D26/60,2))
A27: Summe Stunden | E27: =SUM(E19:E26)
A29: GERÄTE
A30: Gerät | E30: Stunden
A35: Summe Gerätestunden | E35: =SUM(E31:E34)
A37: MATERIAL
A38: Material, Lieferschein | D38: Menge | E38: Einheit
A43: Summe Menge (gleiche Einheit) | D43: =SUM(D39:D42)
A45: LEISTUNGEN
A53: BEHINDERUNGEN UND BESONDERE VORKOMMNISSE
A58: ANORDNUNGEN DES AUFTRAGGEBERS
A62: FOTOS NR.
A65: Bauleitung (Datum, Unterschrift) | C65: Auftraggeber (Datum, Unterschrift)

Sheet Dienstag
A1: BAUTAGEBUCH24 | E1: Bautagebuch
A2: Tagesblatt Dienstag
A4: BAUVORHABEN | D4: DATUM
A6: AUFTRAGGEBER | D6: WOCHENTAG
D7: Dienstag
A8: BAULEITUNG | D8: BLATT NR.
A11: WETTER
A12: Uhrzeit | B12: Temperatur (°C) | C12: Wetter (Sonne, Regen, Wind, Frost)
A13: 7 Uhr
A14: 12 Uhr
A15: 16 Uhr
A17: PERSONAL
A18: Name, Tätigkeit | B18: von | C18: bis | D18: Pause (Min.) | E18: Stunden
E19: =IF(OR(B19="",C19=""),"",ROUND((C19-B19)*24-D19/60,2))
E20: =IF(OR(B20="",C20=""),"",ROUND((C20-B20)*24-D20/60,2))
E21: =IF(OR(B21="",C21=""),"",ROUND((C21-B21)*24-D21/60,2))
E22: =IF(OR(B22="",C22=""),"",ROUND((C22-B22)*24-D22/60,2))
E23: =IF(OR(B23="",C23=""),"",ROUND((C23-B23)*24-D23/60,2))
E24: =IF(OR(B24="",C24=""),"",ROUND((C24-B24)*24-D24/60,2))
E25: =IF(OR(B25="",C25=""),"",ROUND((C25-B25)*24-D25/60,2))
E26: =IF(OR(B26="",C26=""),"",ROUND((C26-B26)*24-D26/60,2))
A27: Summe Stunden | E27: =SUM(E19:E26)
A29: GERÄTE
A30: Gerät | E30: Stunden
A35: Summe Gerätestunden | E35: =SUM(E31:E34)
A37: MATERIAL
A38: Material, Lieferschein | D38: Menge | E38: Einheit
A43: Summe Menge (gleiche Einheit) | D43: =SUM(D39:D42)
A45: LEISTUNGEN
A53: BEHINDERUNGEN UND BESONDERE VORKOMMNISSE
A58: ANORDNUNGEN DES AUFTRAGGEBERS
A62: FOTOS NR.
A65: Bauleitung (Datum, Unterschrift) | C65: Auftraggeber (Datum, Unterschrift)

Sheet Mittwoch
A1: BAUTAGEBUCH24 | E1: Bautagebuch
A2: Tagesblatt Mittwoch
A4: BAUVORHABEN | D4: DATUM
A6: AUFTRAGGEBER | D6: WOCHENTAG
D7: Mittwoch
A8: BAULEITUNG | D8: BLATT NR.
A11: WETTER
A12: Uhrzeit | B12: Temperatur (°C) | C12: Wetter (Sonne, Regen, Wind, Frost)
A13: 7 Uhr
A14: 12 Uhr
A15: 16 Uhr
A17: PERSONAL
A18: Name, Tätigkeit | B18: von | C18: bis | D18: Pause (Min.) | E18: Stunden
E19: =IF(OR(B19="",C19=""),"",ROUND((C19-B19)*24-D19/60,2))
E20: =IF(OR(B20="",C20=""),"",ROUND((C20-B20)*24-D20/60,2))
E21: =IF(OR(B21="",C21=""),"",ROUND((C21-B21)*24-D21/60,2))
E22: =IF(OR(B22="",C22=""),"",ROUND((C22-B22)*24-D22/60,2))
E23: =IF(OR(B23="",C23=""),"",ROUND((C23-B23)*24-D23/60,2))
E24: =IF(OR(B24="",C24=""),"",ROUND((C24-B24)*24-D24/60,2))
E25: =IF(OR(B25="",C25=""),"",ROUND((C25-B25)*24-D25/60,2))
E26: =IF(OR(B26="",C26=""),"",ROUND((C26-B26)*24-D26/60,2))
A27: Summe Stunden | E27: =SUM(E19:E26)
A29: GERÄTE
A30: Gerät | E30: Stunden
A35: Summe Gerätestunden | E35: =SUM(E31:E34)
A37: MATERIAL
A38: Material, Lieferschein | D38: Menge | E38: Einheit
A43: Summe Menge (gleiche Einheit) | D43: =SUM(D39:D42)
A45: LEISTUNGEN
A53: BEHINDERUNGEN UND BESONDERE VORKOMMNISSE
A58: ANORDNUNGEN DES AUFTRAGGEBERS
A62: FOTOS NR.
A65: Bauleitung (Datum, Unterschrift) | C65: Auftraggeber (Datum, Unterschrift)

Sheet Donnerstag
A1: BAUTAGEBUCH24 | E1: Bautagebuch
A2: Tagesblatt Donnerstag
A4: BAUVORHABEN | D4: DATUM
A6: AUFTRAGGEBER | D6: WOCHENTAG
D7: Donnerstag
A8: BAULEITUNG | D8: BLATT NR.
A11: WETTER
A12: Uhrzeit | B12: Temperatur (°C) | C12: Wetter (Sonne, Regen, Wind, Frost)
A13: 7 Uhr
A14: 12 Uhr
A15: 16 Uhr
A17: PERSONAL
A18: Name, Tätigkeit | B18: von | C18: bis | D18: Pause (Min.) | E18: Stunden
E19: =IF(OR(B19="",C19=""),"",ROUND((C19-B19)*24-D19/60,2))
E20: =IF(OR(B20="",C20=""),"",ROUND((C20-B20)*24-D20/60,2))
E21: =IF(OR(B21="",C21=""),"",ROUND((C21-B21)*24-D21/60,2))
E22: =IF(OR(B22="",C22=""),"",ROUND((C22-B22)*24-D22/60,2))
E23: =IF(OR(B23="",C23=""),"",ROUND((C23-B23)*24-D23/60,2))
E24: =IF(OR(B24="",C24=""),"",ROUND((C24-B24)*24-D24/60,2))
E25: =IF(OR(B25="",C25=""),"",ROUND((C25-B25)*24-D25/60,2))
E26: =IF(OR(B26="",C26=""),"",ROUND((C26-B26)*24-D26/60,2))
A27: Summe Stunden | E27: =SUM(E19:E26)
A29: GERÄTE
A30: Gerät | E30: Stunden
A35: Summe Gerätestunden | E35: =SUM(E31:E34)
A37: MATERIAL
A38: Material, Lieferschein | D38: Menge | E38: Einheit
A43: Summe Menge (gleiche Einheit) | D43: =SUM(D39:D42)
A45: LEISTUNGEN
A53: BEHINDERUNGEN UND BESONDERE VORKOMMNISSE
A58: ANORDNUNGEN DES AUFTRAGGEBERS
A62: FOTOS NR.
A65: Bauleitung (Datum, Unterschrift) | C65: Auftraggeber (Datum, Unterschrift)

Sheet Freitag
A1: BAUTAGEBUCH24 | E1: Bautagebuch
A2: Tagesblatt Freitag
A4: BAUVORHABEN | D4: DATUM
A6: AUFTRAGGEBER | D6: WOCHENTAG
D7: Freitag
A8: BAULEITUNG | D8: BLATT NR.
A11: WETTER
A12: Uhrzeit | B12: Temperatur (°C) | C12: Wetter (Sonne, Regen, Wind, Frost)
A13: 7 Uhr
A14: 12 Uhr
A15: 16 Uhr
A17: PERSONAL
A18: Name, Tätigkeit | B18: von | C18: bis | D18: Pause (Min.) | E18: Stunden
E19: =IF(OR(B19="",C19=""),"",ROUND((C19-B19)*24-D19/60,2))
E20: =IF(OR(B20="",C20=""),"",ROUND((C20-B20)*24-D20/60,2))
E21: =IF(OR(B21="",C21=""),"",ROUND((C21-B21)*24-D21/60,2))
E22: =IF(OR(B22="",C22=""),"",ROUND((C22-B22)*24-D22/60,2))
E23: =IF(OR(B23="",C23=""),"",ROUND((C23-B23)*24-D23/60,2))
E24: =IF(OR(B24="",C24=""),"",ROUND((C24-B24)*24-D24/60,2))
E25: =IF(OR(B25="",C25=""),"",ROUND((C25-B25)*24-D25/60,2))
E26: =IF(OR(B26="",C26=""),"",ROUND((C26-B26)*24-D26/60,2))
A27: Summe Stunden | E27: =SUM(E19:E26)
A29: GERÄTE
A30: Gerät | E30: Stunden
A35: Summe Gerätestunden | E35: =SUM(E31:E34)
A37: MATERIAL
A38: Material, Lieferschein | D38: Menge | E38: Einheit
A43: Summe Menge (gleiche Einheit) | D43: =SUM(D39:D42)
A45: LEISTUNGEN
A53: BEHINDERUNGEN UND BESONDERE VORKOMMNISSE
A58: ANORDNUNGEN DES AUFTRAGGEBERS
A62: FOTOS NR.
A65: Bauleitung (Datum, Unterschrift) | C65: Auftraggeber (Datum, Unterschrift)

Sheet Samstag
A1: BAUTAGEBUCH24 | E1: Bautagebuch
A2: Tagesblatt Samstag
A4: BAUVORHABEN | D4: DATUM
A6: AUFTRAGGEBER | D6: WOCHENTAG
D7: Samstag
A8: BAULEITUNG | D8: BLATT NR.
A11: WETTER
A12: Uhrzeit | B12: Temperatur (°C) | C12: Wetter (Sonne, Regen, Wind, Frost)
A13: 7 Uhr
A14: 12 Uhr
A15: 16 Uhr
A17: PERSONAL
A18: Name, Tätigkeit | B18: von | C18: bis | D18: Pause (Min.) | E18: Stunden
E19: =IF(OR(B19="",C19=""),"",ROUND((C19-B19)*24-D19/60,2))
E20: =IF(OR(B20="",C20=""),"",ROUND((C20-B20)*24-D20/60,2))
E21: =IF(OR(B21="",C21=""),"",ROUND((C21-B21)*24-D21/60,2))
E22: =IF(OR(B22="",C22=""),"",ROUND((C22-B22)*24-D22/60,2))
E23: =IF(OR(B23="",C23=""),"",ROUND((C23-B23)*24-D23/60,2))
E24: =IF(OR(B24="",C24=""),"",ROUND((C24-B24)*24-D24/60,2))
E25: =IF(OR(B25="",C25=""),"",ROUND((C25-B25)*24-D25/60,2))
E26: =IF(OR(B26="",C26=""),"",ROUND((C26-B26)*24-D26/60,2))
A27: Summe Stunden | E27: =SUM(E19:E26)
A29: GERÄTE
A30: Gerät | E30: Stunden
A35: Summe Gerätestunden | E35: =SUM(E31:E34)
A37: MATERIAL
A38: Material, Lieferschein | D38: Menge | E38: Einheit
A43: Summe Menge (gleiche Einheit) | D43: =SUM(D39:D42)
A45: LEISTUNGEN
A53: BEHINDERUNGEN UND BESONDERE VORKOMMNISSE
A58: ANORDNUNGEN DES AUFTRAGGEBERS
A62: FOTOS NR.
A65: Bauleitung (Datum, Unterschrift) | C65: Auftraggeber (Datum, Unterschrift)

Sheet Woche
A1: BAUTAGEBUCH24 | E1: Woche
A2: Wochensumme aus den Tagesblättern
A4: BAUVORHABEN | D4: KALENDERWOCHE
A7: STUNDEN DER WOCHE
A8: Tag | B8: Datum | C8: Personal (Std.) | D8: Geräte (Std.) | E8: Bemerkung
A9: Montag | B9: =IF(Montag!D5="","",Montag!D5) | C9: =Montag!E27 | D9: =Montag!E35
A10: Dienstag | B10: =IF(Dienstag!D5="","",Dienstag!D5) | C10: =Dienstag!E27 | D10: =Dienstag!E35
A11: Mittwoch | B11: =IF(Mittwoch!D5="","",Mittwoch!D5) | C11: =Mittwoch!E27 | D11: =Mittwoch!E35
A12: Donnerstag | B12: =IF(Donnerstag!D5="","",Donnerstag!D5) | C12: =Donnerstag!E27 | D12: =Donnerstag!E35
A13: Freitag | B13: =IF(Freitag!D5="","",Freitag!D5) | C13: =Freitag!E27 | D13: =Freitag!E35
A14: Samstag | B14: =IF(Samstag!D5="","",Samstag!D5) | C14: =Samstag!E27 | D14: =Samstag!E35
A15: Summe Woche | C15: =SUM(C9:C14) | D15: =SUM(D9:D14)
A17: Die Stunden kommen per Formel aus den Blättern Montag bis Samstag.
